Package: PPInfer Version: 1.32.0 Command: /home/biocbuild/R/R/bin/R CMD check --install=check:PPInfer.install-out.txt --library=/home/biocbuild/R/R/site-library --no-vignettes --timings PPInfer_1.32.0.tar.gz StartedAt: 2025-01-31 09:13:55 -0000 (Fri, 31 Jan 2025) EndedAt: 2025-01-31 09:22:19 -0000 (Fri, 31 Jan 2025) EllapsedTime: 503.4 seconds RetCode: 0 Status: OK CheckDir: PPInfer.Rcheck Warnings: 0