Package: POMA Version: 1.16.0 Command: /home/biocbuild/R/R/bin/R CMD build --keep-empty-dirs --no-resave-data POMA StartedAt: 2025-01-31 01:49:22 -0000 (Fri, 31 Jan 2025) EndedAt: 2025-01-31 01:50:12 -0000 (Fri, 31 Jan 2025) EllapsedTime: 50.1 seconds RetCode: 0 Status: OK PackageFile: POMA_1.16.0.tar.gz PackageFileSize: 1.302 MiB