Package: PMScanR Version: 1.0.0 Command: /home/biocbuild/R/R/bin/R CMD INSTALL PMScanR StartedAt: 2025-11-13 21:41:12 -0000 (Thu, 13 Nov 2025) EndedAt: 2025-11-13 21:41:59 -0000 (Thu, 13 Nov 2025) EllapsedTime: 46.8 seconds RetCode: 0 Status: OK