Package: PMScanR Version: 1.0.0 Command: /home/biocbuild/bbs-3.22-bioc/R/bin/R CMD INSTALL PMScanR StartedAt: 2025-11-05 15:42:10 -0500 (Wed, 05 Nov 2025) EndedAt: 2025-11-05 15:42:46 -0500 (Wed, 05 Nov 2025) EllapsedTime: 36.0 seconds RetCode: 0 Status: OK