Package: PMScanR Version: 1.0.0 Command: /Library/Frameworks/R.framework/Resources/bin/R CMD INSTALL PMScanR StartedAt: 2025-11-03 15:36:37 -0500 (Mon, 03 Nov 2025) EndedAt: 2025-11-03 15:37:25 -0500 (Mon, 03 Nov 2025) EllapsedTime: 48.1 seconds RetCode: 0 Status: OK