Package: PMScanR Version: 1.0.0 Command: /Library/Frameworks/R.framework/Resources/bin/R CMD build --keep-empty-dirs --no-resave-data PMScanR StartedAt: 2025-11-03 18:16:05 -0500 (Mon, 03 Nov 2025) EndedAt: 2025-11-03 18:17:12 -0500 (Mon, 03 Nov 2025) EllapsedTime: 66.2 seconds RetCode: 0 Status: OK PackageFile: PMScanR_1.0.0.tar.gz PackageFileSize: 1.944 MiB