Package: PMScanR Version: 1.0.0 Command: rm -rf PMScanR.buildbin-libdir && mkdir PMScanR.buildbin-libdir && /Users/biocbuild/BBS/utils/build-universal.sh PMScanR_1.0.0.tar.gz /Library/Frameworks/R.framework/Resources/bin/R PMScanR.buildbin-libdir StartedAt: 2025-11-04 01:56:11 -0500 (Tue, 04 Nov 2025) EndedAt: 2025-11-04 01:57:04 -0500 (Tue, 04 Nov 2025) EllapsedTime: 52.1 seconds RetCode: 0 Status: OK PackageFile: PMScanR_1.0.0.tgz PackageFileSize: 1.995 MiB