Package: PMScanR Version: 1.0.0 Command: /Library/Frameworks/R.framework/Resources/bin/R CMD INSTALL PMScanR StartedAt: 2025-11-05 15:49:32 -0500 (Wed, 05 Nov 2025) EndedAt: 2025-11-05 15:49:47 -0500 (Wed, 05 Nov 2025) EllapsedTime: 15.0 seconds RetCode: 0 Status: OK