Package: PMScanR Version: 1.0.0 Command: /Library/Frameworks/R.framework/Resources/bin/R CMD build --keep-empty-dirs --no-resave-data PMScanR StartedAt: 2025-11-05 17:52:42 -0500 (Wed, 05 Nov 2025) EndedAt: 2025-11-05 17:53:07 -0500 (Wed, 05 Nov 2025) EllapsedTime: 24.3 seconds RetCode: 0 Status: OK PackageFile: PMScanR_1.0.0.tar.gz PackageFileSize: 1.945 MiB