Package: PLSDAbatch Version: 1.4.0 Command: rm -rf PLSDAbatch.buildbin-libdir && mkdir PLSDAbatch.buildbin-libdir && /Users/biocbuild/BBS/utils/build-universal.sh PLSDAbatch_1.4.0.tar.gz /Library/Frameworks/R.framework/Resources/bin/R PLSDAbatch.buildbin-libdir StartedAt: 2025-05-13 13:42:06 -0400 (Tue, 13 May 2025) EndedAt: 2025-05-13 13:43:45 -0400 (Tue, 13 May 2025) EllapsedTime: 99.5 seconds RetCode: 0 Status: OK PackageFile: PLSDAbatch_1.4.0.tgz PackageFileSize: 1.651 MiB