Package: PLSDAbatch Version: 1.4.0 Command: /Library/Frameworks/R.framework/Resources/bin/R CMD INSTALL PLSDAbatch StartedAt: 2025-04-21 15:25:27 -0400 (Mon, 21 Apr 2025) EndedAt: 2025-04-21 15:26:25 -0400 (Mon, 21 Apr 2025) EllapsedTime: 57.6 seconds RetCode: 0 Status: OK