Package: PLSDAbatch Version: 1.4.0 Command: /Library/Frameworks/R.framework/Resources/bin/R CMD build --keep-empty-dirs --no-resave-data PLSDAbatch StartedAt: 2025-04-21 17:17:14 -0400 (Mon, 21 Apr 2025) EndedAt: 2025-04-21 17:17:48 -0400 (Mon, 21 Apr 2025) EllapsedTime: 34.4 seconds RetCode: 0 Status: OK PackageFile: PLSDAbatch_1.4.0.tar.gz PackageFileSize: 1.621 MiB