Package: PLSDAbatch Version: 1.4.0 Command: rm -rf PLSDAbatch.buildbin-libdir && mkdir PLSDAbatch.buildbin-libdir && /Users/biocbuild/BBS/utils/build-universal.sh PLSDAbatch_1.4.0.tar.gz /Library/Frameworks/R.framework/Resources/bin/R PLSDAbatch.buildbin-libdir StartedAt: 2025-04-21 22:46:29 -0400 (Mon, 21 Apr 2025) EndedAt: 2025-04-21 22:46:45 -0400 (Mon, 21 Apr 2025) EllapsedTime: 15.3 seconds RetCode: 0 Status: OK PackageFile: PLSDAbatch_1.4.0.tgz PackageFileSize: 1.654 MiB