Package: PLSDAbatch Version: 1.4.0 Command: /Library/Frameworks/R.framework/Resources/bin/R CMD INSTALL PLSDAbatch StartedAt: 2025-05-12 16:44:48 -0400 (Mon, 12 May 2025) EndedAt: 2025-05-12 16:45:38 -0400 (Mon, 12 May 2025) EllapsedTime: 50.4 seconds RetCode: 0 Status: OK