Package: PLSDAbatch Version: 1.4.0 Command: /Library/Frameworks/R.framework/Resources/bin/R CMD check --install=check:PLSDAbatch.install-out.txt --library=/Library/Frameworks/R.framework/Resources/library --no-vignettes --timings PLSDAbatch_1.4.0.tar.gz StartedAt: 2025-05-17 05:03:18 -0400 (Sat, 17 May 2025) EndedAt: 2025-05-17 05:08:12 -0400 (Sat, 17 May 2025) EllapsedTime: 293.8 seconds RetCode: 0 Status: OK CheckDir: PLSDAbatch.Rcheck Warnings: 0