Package: PIPETS
Version: 1.2.0
Command: /home/biocbuild/R/R/bin/R CMD check --install=check:PIPETS.install-out.txt --library=/home/biocbuild/R/R/site-library --no-vignettes --timings PIPETS_1.2.0.tar.gz
StartedAt: 2025-02-11 09:12:31 -0000 (Tue, 11 Feb 2025)
EndedAt: 2025-02-11 09:14:01 -0000 (Tue, 11 Feb 2025)
EllapsedTime: 90.1 seconds
RetCode: 0
Status: OK
CheckDir: PIPETS.Rcheck
Warnings: 0