Package: PIPETS Version: 1.2.0 Command: /home/biocbuild/bbs-3.20-bioc/R/bin/R CMD check --install=check:PIPETS.install-out.txt --library=/home/biocbuild/bbs-3.20-bioc/R/site-library --timings PIPETS_1.2.0.tar.gz StartedAt: 2025-01-31 01:04:08 -0500 (Fri, 31 Jan 2025) EndedAt: 2025-01-31 01:05:27 -0500 (Fri, 31 Jan 2025) EllapsedTime: 79.1 seconds RetCode: 0 Status: OK CheckDir: PIPETS.Rcheck Warnings: 0