Package: PIPETS Version: 1.2.0 Command: /home/biocbuild/bbs-3.20-bioc/R/bin/R CMD build --keep-empty-dirs --no-resave-data --md5 PIPETS StartedAt: 2025-01-30 18:35:05 -0500 (Thu, 30 Jan 2025) EndedAt: 2025-01-30 18:35:23 -0500 (Thu, 30 Jan 2025) EllapsedTime: 18.0 seconds RetCode: 0 Status: OK PackageFile: PIPETS_1.2.0.tar.gz PackageFileSize: 2.882 MiB