Package: PIPETS Version: 1.4.0 Maintainer: Quinlan Furumo MaintainerEmail: furumo at bc.edu git_url: https://git.bioconductor.org/packages/PIPETS git_branch: RELEASE_3_21 git_last_commit: 8a29c81 git_last_commit_date: 2025-04-15 13:27:57 -0400 (Tue, 15 Apr 2025)