Package: PING Version: 2.50.0 Command: chmod a+r PING -R && F:\biocbuild\bbs-3.20-bioc\R\bin\R.exe CMD build --keep-empty-dirs --no-resave-data PING StartedAt: 2025-01-02 21:05:14 -0500 (Thu, 02 Jan 2025) EndedAt: 2025-01-02 21:05:17 -0500 (Thu, 02 Jan 2025) EllapsedTime: 3.4 seconds RetCode: 0 Status: OK PackageFile: PING_2.50.0.tar.gz PackageFileSize: 4.51 MiB