Package: PICB Version: 1.2.0 Command: /home/biocbuild/bbs-3.22-bioc/R/bin/R CMD INSTALL PICB StartedAt: 2025-11-14 15:29:40 -0500 (Fri, 14 Nov 2025) EndedAt: 2025-11-14 15:29:43 -0500 (Fri, 14 Nov 2025) EllapsedTime: 2.3 seconds RetCode: 0 Status: OK