Package: PICB Version: 1.2.0 Command: /home/biocbuild/bbs-3.22-bioc/R/bin/R CMD build --keep-empty-dirs --no-resave-data --md5 PICB StartedAt: 2025-11-14 19:24:19 -0500 (Fri, 14 Nov 2025) EndedAt: 2025-11-14 19:25:48 -0500 (Fri, 14 Nov 2025) EllapsedTime: 89.1 seconds RetCode: 0 Status: OK PackageFile: PICB_1.2.0.tar.gz PackageFileSize: 4.676 MiB