Package: PICB Version: 1.2.0 Command: /Library/Frameworks/R.framework/Resources/bin/R CMD INSTALL PICB StartedAt: 2025-11-03 15:33:02 -0500 (Mon, 03 Nov 2025) EndedAt: 2025-11-03 15:33:06 -0500 (Mon, 03 Nov 2025) EllapsedTime: 4.0 seconds RetCode: 0 Status: OK