Package: PICB Version: 1.2.0 Command: /Library/Frameworks/R.framework/Resources/bin/R CMD build --keep-empty-dirs --no-resave-data PICB StartedAt: 2025-11-03 18:15:04 -0500 (Mon, 03 Nov 2025) EndedAt: 2025-11-03 18:16:43 -0500 (Mon, 03 Nov 2025) EllapsedTime: 99.4 seconds RetCode: 0 Status: OK PackageFile: PICB_1.2.0.tar.gz PackageFileSize: 4.678 MiB