Package: PICB Version: 1.2.0 Command: rm -rf PICB.buildbin-libdir && mkdir PICB.buildbin-libdir && /Users/biocbuild/BBS/utils/build-universal.sh PICB_1.2.0.tar.gz /Library/Frameworks/R.framework/Resources/bin/R PICB.buildbin-libdir StartedAt: 2025-11-04 01:55:47 -0500 (Tue, 04 Nov 2025) EndedAt: 2025-11-04 01:55:54 -0500 (Tue, 04 Nov 2025) EllapsedTime: 6.9 seconds RetCode: 0 Status: OK PackageFile: PICB_1.2.0.tgz PackageFileSize: 4.689 MiB