Package: PICB Version: 1.2.0 Command: /Library/Frameworks/R.framework/Resources/bin/R CMD INSTALL PICB StartedAt: 2025-10-29 21:37:49 -0400 (Wed, 29 Oct 2025) EndedAt: 2025-10-29 21:37:50 -0400 (Wed, 29 Oct 2025) EllapsedTime: 1.0 seconds RetCode: 0 Status: OK