Package: PICB Version: 1.2.0 Command: /Library/Frameworks/R.framework/Resources/bin/R CMD INSTALL PICB StartedAt: 2025-11-17 17:40:05 -0500 (Mon, 17 Nov 2025) EndedAt: 2025-11-17 17:40:06 -0500 (Mon, 17 Nov 2025) EllapsedTime: 1.0 seconds RetCode: 0 Status: OK