Package: PECA Version: 1.44.0 Command: /Library/Frameworks/R.framework/Resources/bin/R CMD INSTALL PECA StartedAt: 2025-05-01 15:47:15 -0400 (Thu, 01 May 2025) EndedAt: 2025-05-01 15:48:02 -0400 (Thu, 01 May 2025) EllapsedTime: 46.6 seconds RetCode: 0 Status: OK