Package: PECA Version: 1.44.0 Command: rm -rf PECA.buildbin-libdir && mkdir PECA.buildbin-libdir && /Users/biocbuild/BBS/utils/build-universal.sh PECA_1.44.0.tar.gz /Library/Frameworks/R.framework/Resources/bin/R PECA.buildbin-libdir StartedAt: 2025-05-02 14:03:02 -0400 (Fri, 02 May 2025) EndedAt: 2025-05-02 14:04:08 -0400 (Fri, 02 May 2025) EllapsedTime: 66.1 seconds RetCode: 0 Status: OK PackageFile: PECA_1.44.0.tgz PackageFileSize: 223.9 KiB