Package: PECA Version: 1.44.0 Command: /Library/Frameworks/R.framework/Resources/bin/R CMD INSTALL PECA StartedAt: 2025-04-21 15:09:34 -0400 (Mon, 21 Apr 2025) EndedAt: 2025-04-21 15:09:43 -0400 (Mon, 21 Apr 2025) EllapsedTime: 8.9 seconds RetCode: 0 Status: OK