Package: PECA Version: 1.44.0 Command: /Library/Frameworks/R.framework/Resources/bin/R CMD build --keep-empty-dirs --no-resave-data PECA StartedAt: 2025-05-06 05:40:23 -0400 (Tue, 06 May 2025) EndedAt: 2025-05-06 05:41:14 -0400 (Tue, 06 May 2025) EllapsedTime: 51.3 seconds RetCode: 0 Status: OK PackageFile: PECA_1.44.0.tar.gz PackageFileSize: 214.4 KiB