Package: PECA Version: 1.44.0 Command: rm -rf PECA.buildbin-libdir && mkdir PECA.buildbin-libdir && /Users/biocbuild/BBS/utils/build-universal.sh PECA_1.44.0.tar.gz /Library/Frameworks/R.framework/Resources/bin/R PECA.buildbin-libdir StartedAt: 2025-05-07 17:01:30 -0400 (Wed, 07 May 2025) EndedAt: 2025-05-07 17:01:57 -0400 (Wed, 07 May 2025) EllapsedTime: 27.0 seconds RetCode: 0 Status: OK PackageFile: PECA_1.44.0.tgz PackageFileSize: 224 KiB