Package: PCAtools Version: 2.20.0 Command: /home/biocbuild/bbs-3.21-bioc/R/bin/R CMD INSTALL PCAtools StartedAt: 2025-10-12 15:49:59 -0400 (Sun, 12 Oct 2025) EndedAt: 2025-10-12 15:50:33 -0400 (Sun, 12 Oct 2025) EllapsedTime: 34.6 seconds RetCode: 0 Status: OK