Package: PCAtools Version: 2.20.0 Command: /home/biocbuild/bbs-3.21-bioc/R/bin/R CMD build --keep-empty-dirs --no-resave-data PCAtools StartedAt: 2025-10-12 19:08:30 -0400 (Sun, 12 Oct 2025) EndedAt: 2025-10-12 19:11:49 -0400 (Sun, 12 Oct 2025) EllapsedTime: 199.2 seconds RetCode: 0 Status: OK PackageFile: PCAtools_2.20.0.tar.gz PackageFileSize: 11.15 MiB