Package: PCAtools Version: 2.18.0 Command: /Library/Frameworks/R.framework/Resources/bin/R CMD INSTALL PCAtools StartedAt: 2025-01-02 17:51:08 -0500 (Thu, 02 Jan 2025) EndedAt: 2025-01-02 17:51:44 -0500 (Thu, 02 Jan 2025) EllapsedTime: 36.1 seconds RetCode: 0 Status: OK