Package: PCAN Version: 1.36.0 Command: chmod a+r PCAN -R && E:\biocbuild\bbs-3.21-bioc\R\bin\R.exe CMD build --keep-empty-dirs --no-resave-data PCAN StartedAt: 2025-08-14 21:11:34 -0400 (Thu, 14 Aug 2025) EndedAt: 2025-08-14 21:13:56 -0400 (Thu, 14 Aug 2025) EllapsedTime: 142.4 seconds RetCode: 0 Status: OK PackageFile: PCAN_1.36.0.tar.gz PackageFileSize: 2.177 MiB