Package: PCAN Version: 1.36.0 Command: /Library/Frameworks/R.framework/Resources/bin/R CMD INSTALL PCAN StartedAt: 2025-05-22 15:10:06 -0400 (Thu, 22 May 2025) EndedAt: 2025-05-22 15:10:44 -0400 (Thu, 22 May 2025) EllapsedTime: 37.6 seconds RetCode: 0 Status: OK