Package: PANR Version: 1.54.0 Maintainer: Xin Wang MaintainerEmail: xin_wang at hms.harvard.edu git_url: https://git.bioconductor.org/packages/PANR git_branch: RELEASE_3_21 git_last_commit: 46ed2cb git_last_commit_date: 2025-04-15 10:10:08 -0400 (Tue, 15 Apr 2025)