Package: PAA Version: 1.42.0 Command: /Library/Frameworks/R.framework/Resources/bin/R CMD check --install=check:PAA.install-out.txt --library=/Library/Frameworks/R.framework/Resources/library --no-vignettes --timings PAA_1.42.0.tar.gz StartedAt: 2025-04-21 22:27:14 -0400 (Mon, 21 Apr 2025) EndedAt: 2025-04-21 22:31:42 -0400 (Mon, 21 Apr 2025) EllapsedTime: 267.1 seconds RetCode: 0 Status: OK CheckDir: PAA.Rcheck Warnings: 0