Package: OutSplice Version: 1.6.0 Command: /home/biocbuild/R/R/bin/R CMD INSTALL OutSplice StartedAt: 2025-01-30 20:26:34 -0000 (Thu, 30 Jan 2025) EndedAt: 2025-01-30 20:27:16 -0000 (Thu, 30 Jan 2025) EllapsedTime: 42.0 seconds RetCode: 0 Status: OK