Package: OutSplice Version: 1.6.0 Command: /home/biocbuild/R/R/bin/R CMD build --keep-empty-dirs --no-resave-data OutSplice StartedAt: 2025-01-31 01:35:53 -0000 (Fri, 31 Jan 2025) EndedAt: 2025-01-31 01:37:46 -0000 (Fri, 31 Jan 2025) EllapsedTime: 113.2 seconds RetCode: 0 Status: OK PackageFile: OutSplice_1.6.0.tar.gz PackageFileSize: 3.887 MiB