Package: Oscope Version: 1.36.0 Command: F:\biocbuild\bbs-3.20-bioc\R\bin\R.exe CMD INSTALL Oscope StartedAt: 2025-01-30 15:54:44 -0500 (Thu, 30 Jan 2025) EndedAt: 2025-01-30 15:55:04 -0500 (Thu, 30 Jan 2025) EllapsedTime: 19.3 seconds RetCode: 0 Status: OK