Package: Oscope Version: 1.36.0 Command: chmod a+r Oscope -R && F:\biocbuild\bbs-3.20-bioc\R\bin\R.exe CMD build --keep-empty-dirs --no-resave-data Oscope StartedAt: 2025-01-30 20:44:19 -0500 (Thu, 30 Jan 2025) EndedAt: 2025-01-30 20:46:29 -0500 (Thu, 30 Jan 2025) EllapsedTime: 129.7 seconds RetCode: 0 Status: OK PackageFile: Oscope_1.36.0.tar.gz PackageFileSize: 1.161 MiB