Package: Oscope Version: 1.36.0 Command: rm -rf Oscope.buildbin-libdir && mkdir Oscope.buildbin-libdir && F:\biocbuild\bbs-3.20-bioc\R\bin\R.exe CMD INSTALL --build --library=Oscope.buildbin-libdir Oscope_1.36.0.tar.gz StartedAt: 2025-01-31 09:14:18 -0500 (Fri, 31 Jan 2025) EndedAt: 2025-01-31 09:14:32 -0500 (Fri, 31 Jan 2025) EllapsedTime: 14.0 seconds RetCode: 0 Status: OK PackageFile: Oscope_1.36.0.zip PackageFileSize: 854.3 KiB