Package: Oscope Version: 1.36.0 Command: /Library/Frameworks/R.framework/Resources/bin/R CMD INSTALL Oscope StartedAt: 2025-01-30 16:09:47 -0500 (Thu, 30 Jan 2025) EndedAt: 2025-01-30 16:10:03 -0500 (Thu, 30 Jan 2025) EllapsedTime: 16.9 seconds RetCode: 0 Status: OK