Package: Oscope Version: 1.36.0 Command: /Library/Frameworks/R.framework/Resources/bin/R CMD check --install=check:Oscope.install-out.txt --library=/Library/Frameworks/R.framework/Resources/library --no-vignettes --timings Oscope_1.36.0.tar.gz StartedAt: 2025-01-31 07:40:22 -0500 (Fri, 31 Jan 2025) EndedAt: 2025-01-31 07:43:14 -0500 (Fri, 31 Jan 2025) EllapsedTime: 172.3 seconds RetCode: 0 Status: OK CheckDir: Oscope.Rcheck Warnings: 0