Package: Oscope Version: 1.38.0 Command: /Library/Frameworks/R.framework/Resources/bin/R CMD INSTALL Oscope StartedAt: 2025-04-21 15:11:16 -0400 (Mon, 21 Apr 2025) EndedAt: 2025-04-21 15:11:45 -0400 (Mon, 21 Apr 2025) EllapsedTime: 29.6 seconds RetCode: 0 Status: OK