Package: Oscope Version: 1.38.0 Command: rm -rf Oscope.buildbin-libdir && mkdir Oscope.buildbin-libdir && /Users/biocbuild/BBS/utils/build-universal.sh Oscope_1.38.0.tar.gz /Library/Frameworks/R.framework/Resources/bin/R Oscope.buildbin-libdir StartedAt: 2025-04-22 00:59:18 -0400 (Tue, 22 Apr 2025) EndedAt: 2025-04-22 00:59:30 -0400 (Tue, 22 Apr 2025) EllapsedTime: 11.6 seconds RetCode: 0 Status: OK PackageFile: Oscope_1.38.0.tgz PackageFileSize: 849.8 KiB