Package: Oscope Version: 1.38.0 Command: /Library/Frameworks/R.framework/Resources/bin/R CMD check --install=check:Oscope.install-out.txt --library=/Library/Frameworks/R.framework/Resources/library --no-vignettes --timings Oscope_1.38.0.tar.gz StartedAt: 2025-04-21 20:46:17 -0400 (Mon, 21 Apr 2025) EndedAt: 2025-04-21 20:46:47 -0400 (Mon, 21 Apr 2025) EllapsedTime: 30.3 seconds RetCode: 0 Status: OK CheckDir: Oscope.Rcheck Warnings: 0