Package: OpenStats Version: 1.18.0 Command: F:\biocbuild\bbs-3.20-bioc\R\bin\R.exe CMD INSTALL OpenStats StartedAt: 2025-01-30 16:33:58 -0500 (Thu, 30 Jan 2025) EndedAt: 2025-01-30 16:34:45 -0500 (Thu, 30 Jan 2025) EllapsedTime: 47.0 seconds RetCode: 0 Status: OK